BEGIN:VCALENDAR
VERSION:2.0
PRODID:-//EUNIC UK - ECPv6.15.20//NONSGML v1.0//EN
CALSCALE:GREGORIAN
METHOD:PUBLISH
X-WR-CALNAME:EUNIC UK
X-ORIGINAL-URL:https://euniclondon.org
X-WR-CALDESC:Events for EUNIC UK
REFRESH-INTERVAL;VALUE=DURATION:PT1H
X-Robots-Tag:noindex
X-PUBLISHED-TTL:PT1H
BEGIN:VTIMEZONE
TZID:Europe/London
BEGIN:DAYLIGHT
TZOFFSETFROM:+0000
TZOFFSETTO:+0100
TZNAME:BST
DTSTART:20250330T010000
END:DAYLIGHT
BEGIN:STANDARD
TZOFFSETFROM:+0100
TZOFFSETTO:+0000
TZNAME:GMT
DTSTART:20251026T010000
END:STANDARD
BEGIN:DAYLIGHT
TZOFFSETFROM:+0000
TZOFFSETTO:+0100
TZNAME:BST
DTSTART:20260329T010000
END:DAYLIGHT
BEGIN:STANDARD
TZOFFSETFROM:+0100
TZOFFSETTO:+0000
TZNAME:GMT
DTSTART:20261025T010000
END:STANDARD
BEGIN:DAYLIGHT
TZOFFSETFROM:+0000
TZOFFSETTO:+0100
TZNAME:BST
DTSTART:20270328T010000
END:DAYLIGHT
BEGIN:STANDARD
TZOFFSETFROM:+0100
TZOFFSETTO:+0000
TZNAME:GMT
DTSTART:20271031T010000
END:STANDARD
END:VTIMEZONE
BEGIN:VEVENT
DTSTART;TZID=Europe/London:20260415T080000
DTEND;TZID=Europe/London:20260423T170000
DTSTAMP:20260421T115554
CREATED:20260408T143902Z
LAST-MODIFIED:20260408T143923Z
UID:10005523-1776240000-1776963600@euniclondon.org
SUMMARY:New release - Diamenti
DESCRIPTION:A film director gathers his favourite actresses\, those he worked with and those he loves. He wants to make a film about women but he doesn’t reveal much: he observes them\, takes cue\, until his imaginations throws them into an era where the noise of sewing machines fills the space\, handled and populated by women\, where men have minor and marginal roles and cinema can be told from another point of view: the one of costume. Between loneliness\, passions\, anxieties\, heartbreaking absence and unbreakable bonds\, reality and fiction permeate\, as well as the lives of the actresses and those of the characters\, in a highly enjoyable film that celebrates the power of cinema and craft.
URL:https://euniclondon.org/event/new-release-diamenti/
LOCATION:Cinema Lumiere\, 17 Queensberry Place\, London\, London\, SW7 2DT\, United Kingdom
CATEGORIES:Film
ATTACH;FMTTYPE=image/jpeg:https://euniclondon.org/wp-content/uploads/2026/03/DIAMANTI_95A0473-scaled.jpg
GEO:51.4945863;-0.1773215
X-APPLE-STRUCTURED-LOCATION;VALUE=URI;X-ADDRESS=Cinema Lumiere 17 Queensberry Place London London SW7 2DT United Kingdom;X-APPLE-RADIUS=500;X-TITLE=17 Queensberry Place:geo:-0.1773215,51.4945863
END:VEVENT
BEGIN:VEVENT
DTSTART;TZID=Europe/London:20260423T190000
DTEND;TZID=Europe/London:20260423T200000
DTSTAMP:20260421T115554
CREATED:20260408T144123Z
LAST-MODIFIED:20260408T144125Z
UID:10005939-1776970800-1776974400@euniclondon.org
SUMMARY:Exclusive Screening Premiere: Lord Elgin and Some Stones of No Value (40-Year Anniversary)
DESCRIPTION:Join us for an exclusive premiere screening of the newly restored film Lord Elgin and Some Stones of No Value (1986)\, celebrating 40 years since its release. Directed by Christopher Miles and featuring Hugh Grant’s first screen appearance\, the film is a nuanced and imaginative exploration of the Parthenon Sculptures’ removal from Athens\, drawing heavily on Lord Elgin’s own letters.  \nStarring Nigel Havers and Julian Fellowes\, the film has been meticulously researched and crafted with an unorthodox structure. Lord Elgin’s own words form the backbone of a narrative that shifts between past and present\, offering an experience that is at once informative\, thought-provoking\, and above all\, profoundly human.  \nThe screening will be followed by a Q&A session\, mediated by George T. Lemos\, with a panel that will include film cast and crew members Suzy Miles and Alberto Bona\, who will speak about the restoration of the film. More special guests might join the event\, depending on their availability. 
URL:https://euniclondon.org/event/exclusive-screening-premiere-lord-elgin-and-some-stones-of-no-value-40-year-anniversary/
LOCATION:The Hellenic Centre London\, 18\, 16 Paddington St\, ONLINE\, W1U 5AS\, United Kingdom
CATEGORIES:Film,Talks
ATTACH;FMTTYPE=image/jpeg:https://euniclondon.org/wp-content/uploads/2026/03/LE-CMElgins-1-1.jpg
ORGANIZER;CN="The Hellenic Centre":MAILTO:info@helleniccentre.org
END:VEVENT
BEGIN:VEVENT
DTSTART;TZID=Europe/London:20260424T080000
DTEND;TZID=Europe/London:20260430T170000
DTSTAMP:20260421T115554
CREATED:20260408T143212Z
LAST-MODIFIED:20260408T143214Z
UID:10005516-1777017600-1777568400@euniclondon.org
SUMMARY:New Release - The Wizard of the Kremlin
DESCRIPTION:Director Olivier Assayas adapts to the screen Guiliano da Empoli’s best-selling novel. \n In early 1990s Russia\, amid post-Soviet chaos\, young Vadim Baranov\, soon becomes the spin doctor to a rising KGB agent: Vladimir Putin (played by Jude Law). At the heart of power\, he navigates between the truth and lies that shape the new Russia. Years later\, Baranov finally opens up\, revealing the dark secrets of the regime he helped build. 
URL:https://euniclondon.org/event/new-release-the-wizard-of-the-kremlin/
LOCATION:Institut français in London\, 17 Queensberry Place\, London\, SW7 2DT\, United Kingdom
CATEGORIES:Film
ATTACH;FMTTYPE=image/jpeg:https://euniclondon.org/wp-content/uploads/2026/03/Jude-Law-Paul-Dano-The-Wizard-of-the-Kremlin-Signature-Entertainment-1-scaled.jpeg
GEO:51.4945863;-0.1773215
X-APPLE-STRUCTURED-LOCATION;VALUE=URI;X-ADDRESS=Institut français in London 17 Queensberry Place London SW7 2DT United Kingdom;X-APPLE-RADIUS=500;X-TITLE=17 Queensberry Place:geo:-0.1773215,51.4945863
END:VEVENT
BEGIN:VEVENT
DTSTART;TZID=Europe/London:20260430T190000
DTEND;TZID=Europe/London:20260430T200000
DTSTAMP:20260421T115554
CREATED:20260408T144609Z
LAST-MODIFIED:20260408T144610Z
UID:10005528-1777575600-1777579200@euniclondon.org
SUMMARY:Third Person (Plural): A Cinematic Essay by Aikaterini Gegisian
DESCRIPTION:Third Person (Plural) is Aikaterini Gegisian’s feature-length cinematic essay\, built from over 200 postwar U.S. informational films and newsreels drawn from the Library of Congress and the National Archives. What begins as an exploration of early European integration history unfolds into a feminist re-reading of the masculine gaze that shaped the ‘new world order’.   \nThis layered work unfolds across a multi-screen installation\, a feature-length essay film\, and an artist’s book. Originating as a quest to source documents of early European integration processes in the post-war United States\, the project unfolds into an expansive feminist re-reading of the hegemonic masculine gaze and its manifestation in material images. The work is a bracing encounter with the gaze that produced the ‘image’ of the world as the new\, Western order\, bound by the notion of a united Europe\, the delirium of the Cold War\, and decolonisation processes. Casting a female gaze upon this history\, Third Person (Plural) reclaims the unseen perspectives that haunt the margins of official narratives\, making visible a collective ‘third person’.  \nGegisian will be joined by Shoair Mavlian\, Director of The Photographers’ Gallery\, for a discussion and Q&A.
URL:https://euniclondon.org/event/third-person-plural-a-cinematic-essay-by-aikaterini-gegisian/
LOCATION:The Hellenic Centre\, 18\, 16 Paddington St\, London\, W1U 5AS\, United Kingdom
CATEGORIES:Art,Film
ATTACH;FMTTYPE=image/jpeg:https://euniclondon.org/wp-content/uploads/2026/03/WEB_TTP_FILMSTILL78-1.jpg
ORGANIZER;CN="The Hellenic Centre":MAILTO:info@helleniccentre.org
GEO:51.5206899;-0.1537246
X-APPLE-STRUCTURED-LOCATION;VALUE=URI;X-ADDRESS=The Hellenic Centre 18 16 Paddington St London W1U 5AS United Kingdom;X-APPLE-RADIUS=500;X-TITLE=18\, 16 Paddington St:geo:-0.1537246,51.5206899
END:VEVENT
BEGIN:VEVENT
DTSTART;TZID=Europe/London:20260501T080000
DTEND;TZID=Europe/London:20260507T170000
DTSTAMP:20260421T115554
CREATED:20260408T144649Z
LAST-MODIFIED:20260408T144650Z
UID:10005941-1777622400-1778173200@euniclondon.org
SUMMARY:New Release - Primavera
DESCRIPTION:Drawing on the real life of Vivaldi in 18th century Venice\, this beautifully directed musical drama follows Cecilia\, a talented musician whose life changes forever when she meets her orphanage’s new music instructor: Antonio Vivaldi. Under his mentorship and through his music\, she gains courage to break free from the orphanage’s draconian strictures and pursue her passion. 
URL:https://euniclondon.org/event/new-release-primavera/
LOCATION:Cinema Lumiere\, 17 Queensberry Place\, London\, London\, SW7 2DT\, United Kingdom
CATEGORIES:Film
ATTACH;FMTTYPE=image/jpeg:https://euniclondon.org/wp-content/uploads/2026/03/PRIMAVERA-Main-still-2-scaled.jpg
GEO:51.4945863;-0.1773215
X-APPLE-STRUCTURED-LOCATION;VALUE=URI;X-ADDRESS=Cinema Lumiere 17 Queensberry Place London London SW7 2DT United Kingdom;X-APPLE-RADIUS=500;X-TITLE=17 Queensberry Place:geo:-0.1773215,51.4945863
END:VEVENT
END:VCALENDAR