BEGIN:VCALENDAR
VERSION:2.0
PRODID:-//EUNIC UK - ECPv6.15.20//NONSGML v1.0//EN
CALSCALE:GREGORIAN
METHOD:PUBLISH
X-ORIGINAL-URL:https://euniclondon.org
X-WR-CALDESC:Events for EUNIC UK
REFRESH-INTERVAL;VALUE=DURATION:PT1H
X-Robots-Tag:noindex
X-PUBLISHED-TTL:PT1H
BEGIN:VTIMEZONE
TZID:Europe/London
BEGIN:DAYLIGHT
TZOFFSETFROM:+0000
TZOFFSETTO:+0100
TZNAME:BST
DTSTART:20240331T010000
END:DAYLIGHT
BEGIN:STANDARD
TZOFFSETFROM:+0100
TZOFFSETTO:+0000
TZNAME:GMT
DTSTART:20241027T010000
END:STANDARD
BEGIN:DAYLIGHT
TZOFFSETFROM:+0000
TZOFFSETTO:+0100
TZNAME:BST
DTSTART:20250330T010000
END:DAYLIGHT
BEGIN:STANDARD
TZOFFSETFROM:+0100
TZOFFSETTO:+0000
TZNAME:GMT
DTSTART:20251026T010000
END:STANDARD
BEGIN:DAYLIGHT
TZOFFSETFROM:+0000
TZOFFSETTO:+0100
TZNAME:BST
DTSTART:20260329T010000
END:DAYLIGHT
BEGIN:STANDARD
TZOFFSETFROM:+0100
TZOFFSETTO:+0000
TZNAME:GMT
DTSTART:20261025T010000
END:STANDARD
END:VTIMEZONE
BEGIN:VEVENT
DTSTART;TZID=Europe/London:20250916T190000
DTEND;TZID=Europe/London:20250916T210000
DTSTAMP:20260421T003451
CREATED:20250610T205052Z
LAST-MODIFIED:20250610T205108Z
UID:10005343-1758049200-1758056400@euniclondon.org
SUMMARY:Stories of Resistance: Olivier Norek in Conversation with Andrey Kurkov
DESCRIPTION:Join us for a powerful evening of conversation between bestselling French author Olivier Norek and acclaimed Ukrainian writer Andrey Kurkov\, as they explore war\, resistance\, and the endurance of the human spirit through their latest works. \nIn The Winter Warriors\, Olivier Norek revives the icy silence of the Finnish forests during the Winter war of 1939—a forgotten front where rifles froze\, but not the will of a nation. Against all expectations\, Finland resisted the Soviet onslaught with nothing more than skis\, cunning\, and courage. At the heart of this stark and haunting narrative stands Simo Häyhä\, the legendary sniper known as the White Death\, who becomes a chilling symbol of one man’s ability to shift the tide of history. \nMeanwhile\, in Our Daily War\, Andrey Kurkov writes from today’s frontiers—not of history\, but of life itself. With piercing humanity and quiet defiance\, he documents the everyday surrealism of Ukraine under siege: children doing schoolwork in metro stations\, winemakers repurposing war detritus\, and soldiers scribbling messages of remembrance on their ammunitions. \nTogether\, these two authors offer a unique and moving reflection on what is means to resist. Across time and geography\, The Winter Warriors and Our Daily War speak to the same truth: when history tries to erase a people\, resistance becomes not just survival\, but identity. \nAs war redraws maps and tests identities\, Norek and Kurkov remind us that it is not always the grand strategies that shape destiny\, but the unbreakable thread of resilience—from the snows of Karelia to the skies above Kyiv.
URL:https://euniclondon.org/event/stories-of-resistance-olivier-norek-in-conversation-with-andrey-kurkov/
LOCATION:Select a State
CATEGORIES:Literature,Talks
ATTACH;FMTTYPE=image/jpeg:https://euniclondon.org/wp-content/uploads/2025/05/olivier-norek-in-conversation-with-andrey-kurkov.jpg
END:VEVENT
BEGIN:VEVENT
DTSTART;TZID=Europe/London:20250604T190000
DTEND;TZID=Europe/London:20250604T210000
DTSTAMP:20260421T003451
CREATED:20250519T180716Z
LAST-MODIFIED:20250519T180948Z
UID:10005326-1749063600-1749070800@euniclondon.org
SUMMARY:Book Presentation and Discussion with Anne Sebba and Rosie Goldsmith – The Women’s Orchestra of Auschwitz
DESCRIPTION:The ACF London is delighted to welcome acclaimed historian and biographer Anne Sebba for a special evening celebrating her latest publication The Women’s Orchestra of Auschwitz – A Story of Survival. \nThis event will feature an introduction to the orchestra\, whose main conductor was the Viennese-born Alma Rosé\, and a discussion with Anne Sebba and award-winning journalist Rosie Goldsmith\, followed by a Q&A. \nIn 1943\, German SS officers in charge of Auschwitz-Birkenau ordered that an orchestra should be formed among the female prisoners. Almost fifty women and girls from eleven nations were drafted into a hurriedly assembled band that would play marching music to other inmates\, forced labourers who left each morning and returned\, exhausted and often broken\, at the end of the day. While still living amid the most brutal and dehumanising of circumstances\, they were also made to give weekly concerts for Nazi officers\, and individual members were sometimes summoned to give solo performances of an officer’s favourite piece of music. It was the only entirely female orchestra in any of the Nazi prison camps and\, for almost all of the musicians chosen to take part\, being in the orchestra saved their lives. What role could music play in a death camp? What was the effect on those women who owed their survival to their participation in a Nazi propaganda project? And how did it feel to be forced to provide solace to the perpetrators of a genocide that claimed the lives of their family and friends? \nFrom Alma Rosé\, the orchestra’s main conductor\, niece of Gustav Mahler and a formidable pre-war celebrity violinist\, to Anita Lasker-Wallfisch\, its teenage cellist and last surviving member\, Sebba draws on meticulous archival research and exclusive first-hand accounts to tell the full and astonishing story of the orchestra\, its members and the response of other prisoners for the first time. \nAnne Sebba is a historian and an award-winning biographer who began her career as a Reuters correspondent based in London and Rome. She has written eleven works of non-fiction\, mostly about iconic 20th century women\, translated into a variety of languages including French\, Polish\, Czech\, Japanese and Chinese\, makes regular television and radio appearances and has presented two BBC radio documentaries about musicians. She is the author of the international bestseller That Woman\, an acclaimed biography of Wallis Simpson\, Duchess of Windsor\, and the prize-winning Les Parisiennes: How the Women of Paris Lived\, Loved and Died Under Nazi Occupation. Her most recent book was Ethel Rosenberg\, the Short Life and Great Betrayal of an American Wife and Mother\, shortlisted for the Wingate award. Anne is a Fellow of the Royal Society of Literature\, Senior Research Fellow at the Institute of Historical Research and trustee of the National Archives Trust. \nRosie Goldsmith is an award-winning journalist specializing in arts and foreign affairs. A BBC staff Senior Broadcast Journalist for twenty years\, she travelled the world and presented several flagship programmes. Today she combines journalism with chairing and curating arts and literary events in the UK and across the world. Known also as a champion of international literature\, translation and language learning\, she promotes them whenever she can. She is Founder and Director of the European Literature Network\, Editor-in-Chief of The Riveter magazine\, Artistic Director of the European Writers’ Festival and was Chair of the Judges of the EBRD Literature Prize 2018-2020\, a prize that she helped set up. She is presenter of the Slightly Foxed books podcast.
URL:https://euniclondon.org/event/book-presentation-and-discussion-with-anne-sebba-and-rosie-goldsmith-the-womens-orchestra-of-auschwitz/
LOCATION:Austrian Cultural Forum London\, 28 Rutland Gate\, London\, SW7 1PQ\, United Kingdom
CATEGORIES:Literature
ATTACH;FMTTYPE=image/jpeg:https://euniclondon.org/wp-content/uploads/2025/05/MixCollage-01-May-2025-01-36-PM-3824.width-900.jpg
GEO:51.5001014;-0.1679188
X-APPLE-STRUCTURED-LOCATION;VALUE=URI;X-ADDRESS=Austrian Cultural Forum London 28 Rutland Gate London SW7 1PQ United Kingdom;X-APPLE-RADIUS=500;X-TITLE=28 Rutland Gate:geo:-0.1679188,51.5001014
END:VEVENT
BEGIN:VEVENT
DTSTART;TZID=Europe/London:20250505T000000
DTEND;TZID=Europe/London:20250517T235959
DTSTAMP:20260421T003451
CREATED:20250407T171137Z
LAST-MODIFIED:20250407T171139Z
UID:10005300-1746403200-1747526399@euniclondon.org
SUMMARY:Beyond Words
DESCRIPTION:From 5 to 17 May\, the Institut français goes Beyond Words and takes us on a literary journey through discussions\, readings\, and screenings. \n\n\n\n\n\nAudiences can expect the best of contemporary French literature in English translation\, the latest and most inspiring publications from both sides of the Channel and a great line-up including acclaimed authors and new voices. \nWith special thanks to Florence and Vincent Gombault\, and to the Friends of the French Institute Trust for their support to the festival.
URL:https://euniclondon.org/event/beyond-words/
LOCATION:Institut français in London\, 17 Queensberry Place\, London\, SW7 2DT\, United Kingdom
CATEGORIES:Film,Literature,Talks
ATTACH;FMTTYPE=image/png:https://euniclondon.org/wp-content/uploads/2025/04/beyond_2025_1440_660.png
GEO:51.4945863;-0.1773215
X-APPLE-STRUCTURED-LOCATION;VALUE=URI;X-ADDRESS=Institut français in London 17 Queensberry Place London SW7 2DT United Kingdom;X-APPLE-RADIUS=500;X-TITLE=17 Queensberry Place:geo:-0.1773215,51.4945863
END:VEVENT
END:VCALENDAR