BEGIN:VCALENDAR
VERSION:2.0
PRODID:-//EUNIC UK - ECPv6.15.20//NONSGML v1.0//EN
CALSCALE:GREGORIAN
METHOD:PUBLISH
X-ORIGINAL-URL:https://euniclondon.org
X-WR-CALDESC:Events for EUNIC UK
REFRESH-INTERVAL;VALUE=DURATION:PT1H
X-Robots-Tag:noindex
X-PUBLISHED-TTL:PT1H
BEGIN:VTIMEZONE
TZID:Europe/London
BEGIN:DAYLIGHT
TZOFFSETFROM:+0000
TZOFFSETTO:+0100
TZNAME:BST
DTSTART:20240331T010000
END:DAYLIGHT
BEGIN:STANDARD
TZOFFSETFROM:+0100
TZOFFSETTO:+0000
TZNAME:GMT
DTSTART:20241027T010000
END:STANDARD
BEGIN:DAYLIGHT
TZOFFSETFROM:+0000
TZOFFSETTO:+0100
TZNAME:BST
DTSTART:20250330T010000
END:DAYLIGHT
BEGIN:STANDARD
TZOFFSETFROM:+0100
TZOFFSETTO:+0000
TZNAME:GMT
DTSTART:20251026T010000
END:STANDARD
BEGIN:DAYLIGHT
TZOFFSETFROM:+0000
TZOFFSETTO:+0100
TZNAME:BST
DTSTART:20260329T010000
END:DAYLIGHT
BEGIN:STANDARD
TZOFFSETFROM:+0100
TZOFFSETTO:+0000
TZNAME:GMT
DTSTART:20261025T010000
END:STANDARD
END:VTIMEZONE
BEGIN:VEVENT
DTSTART;TZID=Europe/London:20250809T120000
DTEND;TZID=Europe/London:20250905T170000
DTSTAMP:20260422T141516
CREATED:20250826T145549Z
LAST-MODIFIED:20250826T145550Z
UID:10005362-1754740800-1757091600@euniclondon.org
SUMMARY:The Sun Can Be: An IPLA Collective Exhibition
DESCRIPTION:The Sun Can Be: an IPLA collective exhibition\, showcases the works of four young British-based poets operating in the fields of visual poetry\, experimental textual poetry\, text art\, and the asemic. \n\nThe works of the exhibition range from multimedia poetry\, self-portraiture\, and 3D poetry to typewriter art\, lino print\, and a prose-puzzle poem series exhibiting material\, form and method as conveyors of shifting\, alternate realities. From a triptych of calligrams that echo the Surrealism of Guillaume Apollinaire to a series of text art pieces\, to conceptual poetry that reinterprets perspective. The Sun Can Be expands on these themes through unconventional and diversified aesthetics that redefine traditional poetry\, and serves as a translation of the artistic intentions of the IPLA poets.\n\nhttps://inparentheses.cargo.site | Instagram\nIPLA Artists\nCameron Wade\nCameron Wade is a writer and poet based in London. His work explores the nature of storytelling\, the relationship between inner and outer realities\, non-linear storytelling\, and themes of madness\, ‘other’-spaces\, the eerie and the weird; experimenting with ergodic literature and meta-textuality through fiction\, prose-poetry\, visual and asemic poetry\, collage and performance.\n\nDanica Ignacio\nDanica Ignacio is a Filipino poet whose writing focuses on the juxtaposition of the ordinary and the non-ordinary by giving importance to the small. Mainly taking from more traditional forms of poetry\, her work aims to morph the everyday experience just enough to be unrecognisable while still maintaining its form.\n\nEleanor Wilders\nEleanor Wilders finds inspiration from the ignored details of routine and from the in-betweens of the everyday experience\, she crafts stories that question our assumptions about connection\, purpose\, and freedom. Her artistic practice leads to an exploration of exposure in today’s society; her work tries to confront the paradox of vulnerability in an age of hyper-connectivity\, whilst grappling with the tension between authenticity and public persona.\n\nMatthew Sokulsky\nMatthew Sokulsky is concerned with the tense relationship between nature and rational\, theology and logic\, and their ability (or not) to co-exist in the contemporary. His work experiments with traditional forms to create decidedly new poetry that at once exemplifies modernity while recognising the rich vein of myth and ritual to which he believes all poetry fixes its base.\nOpening hours:\nThe gallery will be opened to the public 12 noon to 5pm every Wednesday to Saturday\nOpening Night and Special View\nSaturday 9 August 2025\, 7-9pm / Bouda Gallery\nThe exhibition opens on 9 August with a special event featuring Tim Postovit\, a Czech poet\, performer\, and translator of Ukrainian origin.\n\nCelebrating cross-culture collaboration and international innovation the event will also include live performances by David Spittle\, Aimae Nimmo\, Matthew Sokulsky\, Danica Ignacio\, Eleanor Wilders\, Cameron Wade and many more to be announced.\n\nAbout Tom Postovit\nTim Postovit was born in Ukraine and has lived in the Czech Republic since the age of six. He studied philology at Charles University in Prague. He translates from Ukrainian and Russian. In 2019 he published his debut collection of poems\, Magistrála (Highway). A poem from this book has been featured in the annual Best Czech Poetry anthology. He also performs slam poetry and holds the 2019 joint title for duo slam poetry. In 2021 his second poetry collection came out Motýlí pavilon (The Butterfly Pavilion). In 2022 he was nominated for Václav Burian Prize. From 2022 he has worked at Organization for Aid to Refugees (OPU) as a social worker for Ukrainian community. He is a member of a Czech Writers Association. He is based in Prague.\nIPLA and Friends.\nThursday August 14\, 2025\, 7-9pm / Bouda Gallery\nAn evening of experimental performance and readings from the IPLA Collective\, Simon Tyrell\, Irys Bird\, Oscar Sutherland-Dee\, Martin Wakefield and more to be announced!\n\nThe second event in the series features an array of bespoke new readings and performances including a world-first IPLA collaborative performance and poets travelling from across the country to read their brilliant new works for you at the historic Bouda Gallery.\nFurther accompanying events: \n\n 	August 16th\, 7 – 9 pm\n 	August 21st\, 7 – 9 pm\n 	August 23rd\, 7 – 9 pm\n 	August 28th\, 7 – 9 pm\n 	August 30th\, 7 – 9 pm\n\nThe Sun Can Be\, an exhibition by IPLA Collective\, is the Czech Centre’s Summer Artistic Residency — a pilot project offering a safe and supportive space for local artists and the community. It is part of SAFE(R) SPACES. Out There And Within\, a network initiative organised by the Czech Centres.
URL:https://euniclondon.org/event/the-sun-can-be-an-ipla-collective-exhibition/
LOCATION:Czech Centre´s Bouda Gallery\, 132 Palace Gardens Terrace\, Kensington\, London\, W8 4RT\, United Kingdom
CATEGORIES:Art,Outside the Box
ATTACH;FMTTYPE=image/jpeg:https://euniclondon.org/wp-content/uploads/2025/07/PHOTO-2025-06-10-01-17-47.jpg
ORGANIZER;CN="Czech Centre":MAILTO:blues@czechcentre.org.uk
END:VEVENT
END:VCALENDAR