BEGIN:VCALENDAR
VERSION:2.0
PRODID:-//EUNIC UK - ECPv6.15.20//NONSGML v1.0//EN
CALSCALE:GREGORIAN
METHOD:PUBLISH
X-ORIGINAL-URL:https://euniclondon.org
X-WR-CALDESC:Events for EUNIC UK
REFRESH-INTERVAL;VALUE=DURATION:PT1H
X-Robots-Tag:noindex
X-PUBLISHED-TTL:PT1H
BEGIN:VTIMEZONE
TZID:Europe/London
BEGIN:DAYLIGHT
TZOFFSETFROM:+0000
TZOFFSETTO:+0100
TZNAME:BST
DTSTART:20240331T010000
END:DAYLIGHT
BEGIN:STANDARD
TZOFFSETFROM:+0100
TZOFFSETTO:+0000
TZNAME:GMT
DTSTART:20241027T010000
END:STANDARD
BEGIN:DAYLIGHT
TZOFFSETFROM:+0000
TZOFFSETTO:+0100
TZNAME:BST
DTSTART:20250330T010000
END:DAYLIGHT
BEGIN:STANDARD
TZOFFSETFROM:+0100
TZOFFSETTO:+0000
TZNAME:GMT
DTSTART:20251026T010000
END:STANDARD
BEGIN:DAYLIGHT
TZOFFSETFROM:+0000
TZOFFSETTO:+0100
TZNAME:BST
DTSTART:20260329T010000
END:DAYLIGHT
BEGIN:STANDARD
TZOFFSETFROM:+0100
TZOFFSETTO:+0000
TZNAME:GMT
DTSTART:20261025T010000
END:STANDARD
END:VTIMEZONE
BEGIN:VEVENT
DTSTART;TZID=Europe/London:20250508T000000
DTEND;TZID=Europe/London:20250718T235959
DTSTAMP:20260420T230025
CREATED:20250425T202426Z
LAST-MODIFIED:20250425T202606Z
UID:10005318-1746662400-1752883199@euniclondon.org
SUMMARY:Of course I know eternity: Wilhelm Traeger + Gray Wielebinski
DESCRIPTION:The ACF is pleased to announce our summer exhibition Of course I know eternity: Wilhelm Traeger + Gray Wielebinski\, curated by Sasha Shevchenko and Pia Zeitzen of Kollektiv Collective. \n\n\n\nThe exhibition brings together the works of Wilhelm Traeger (1907 – 1980) and Gray Wielebinski (b. 1991) in a unique artistic dialogue and a site-specific\, collaborative exercise in temporal contextualisation. We are thrilled to present 13 large-scale collages by Traeger for the first time in the UK alongside site-specific works by London-based contemporary multimedia artist Gray Wielebinski. Representing a generation of Austrian artists who were unable to establish international careers during their lifetime\, Traeger’s work encounters that of Wielebinski\, which\, in contrast\, is formed in a globalised and hyperconnected world. Alongside each other\, Traeger and Wielebinski demarcate a time where one artist’s tomorrow is the other’s present-day\, a moment after the fall and\, at once\, on the edge of the next. \n\n\n\nAs a conversation between two artists who have never met\, Of course I know eternity defies distance – physical\, temporal\, geographical and that of a lifetime – through Traeger’s and Wielebinski’s shared fascination with collage\, both as a medium and a methodology. Together\, Traeger’s collages-on-paper dating between 1961 and 1969 and Wielebinski’s site-specific installations interrogate the ways in which time is felt and contextualised. The resulting visual kaleidoscope joins fragments\, forms and nuances across the two floors and corridors of the ACF. Here\, collage becomes a totalising force that extends beyond the edges of a given artwork\, implicating the very walls and stairways of the building they occupy. \n\n\n\nThis artistic and intergenerational exchange explores the intellectual and artistic legacy of the Austrian post-war avant-garde\, their questions reverberating in the present moment. Opening on the occasion of the 80th anniversary of the end of WWII\, Of course I know eternity examines the nonlinearity of history\, collaging together the conflicting relationship of hope and fear as it was felt then\, as it is felt now. \n\n\n\nThe exhibition will be on view at the ACF London until Friday 18 July 2025. \n\n\n\nOpening: 8th May at 6pm.
URL:https://euniclondon.org/event/of-course-i-know-eternity-wilhelm-traeger-gray-wielebinski/
LOCATION:Austrian Cultural Forum London\, 28 Rutland Gate\, London\, SW7 1PQ\, United Kingdom
ATTACH;FMTTYPE=image/jpeg:https://euniclondon.org/wp-content/uploads/2025/04/Wilhelm_Traeger_Hommage_pour_Alfons_Petzold_Ho.width-900-e1745612613788-edited.jpg
GEO:51.5001014;-0.1679188
X-APPLE-STRUCTURED-LOCATION;VALUE=URI;X-ADDRESS=Austrian Cultural Forum London 28 Rutland Gate London SW7 1PQ United Kingdom;X-APPLE-RADIUS=500;X-TITLE=28 Rutland Gate:geo:-0.1679188,51.5001014
END:VEVENT
END:VCALENDAR