BEGIN:VCALENDAR
VERSION:2.0
PRODID:-//EUNIC UK - ECPv6.15.20//NONSGML v1.0//EN
CALSCALE:GREGORIAN
METHOD:PUBLISH
X-ORIGINAL-URL:https://euniclondon.org
X-WR-CALDESC:Events for EUNIC UK
REFRESH-INTERVAL;VALUE=DURATION:PT1H
X-Robots-Tag:noindex
X-PUBLISHED-TTL:PT1H
BEGIN:VTIMEZONE
TZID:Europe/London
BEGIN:DAYLIGHT
TZOFFSETFROM:+0000
TZOFFSETTO:+0100
TZNAME:BST
DTSTART:20250330T010000
END:DAYLIGHT
BEGIN:STANDARD
TZOFFSETFROM:+0100
TZOFFSETTO:+0000
TZNAME:GMT
DTSTART:20251026T010000
END:STANDARD
BEGIN:DAYLIGHT
TZOFFSETFROM:+0000
TZOFFSETTO:+0100
TZNAME:BST
DTSTART:20260329T010000
END:DAYLIGHT
BEGIN:STANDARD
TZOFFSETFROM:+0100
TZOFFSETTO:+0000
TZNAME:GMT
DTSTART:20261025T010000
END:STANDARD
BEGIN:DAYLIGHT
TZOFFSETFROM:+0000
TZOFFSETTO:+0100
TZNAME:BST
DTSTART:20270328T010000
END:DAYLIGHT
BEGIN:STANDARD
TZOFFSETFROM:+0100
TZOFFSETTO:+0000
TZNAME:GMT
DTSTART:20271031T010000
END:STANDARD
END:VTIMEZONE
BEGIN:VEVENT
DTSTART;TZID=Europe/London:20260409T100000
DTEND;TZID=Europe/London:20260612T170000
DTSTAMP:20260422T173947
CREATED:20260408T142703Z
LAST-MODIFIED:20260408T142704Z
UID:10005512-1775728800-1781283600@euniclondon.org
SUMMARY:Desire to Create: Baťa's Architecture of Belonging
DESCRIPTION:The Czech Centre London\, in collaboration with the Tomáš Baťa Foundation and the Bata Heritage Centre\, marks the 150th anniversary of Czech entrepreneur Tomáš Baťa\, founder of the global Baťa Shoe Company\, with an exhibition exploring his achievements and guiding principles and their realisation in East Tilbury. It reveals how ideas about work\, culture\, sport\, health and community were embedded in the design of the built environment.\n\nThe exhibition unfolds in two complementary strands. Desire to Create presents Baťa’s legacy as a comprehensive philosophy\, uniting work with service\, enterprise with education\, and personal development with responsibility towards others – not as a relic of the past\, but as a continuing source of inspiration. Baťa’s Architecture of Belonging brings East Tilbury to life through architectural drawings\, historic photographs and original artefacts\, evoking its distinctive modernist atmosphere. Together\, they trace how ideas were translated into built form – from vision to planning\, from planning to everyday life – creating a cohesive narrative of belonging\, work and community.\n\nOrganised by Czech Centre London in partnership with Bata Heritage Centre.\n\n 	EXHIBITION OPENING\nThursday 9 April 2026\, 6.30 – 8.30 pm\nFree entry\, Register Here\n 	EXHIBITION DATES: 10 April – 12 June 2026\n 	VENUE & OPENING TIMES\nVitrínka Gallery\, Czech Centre London\n30 Kensington Palace Gardens\, London\, W8 4QY\nOpening hours: Tue – Fri 10am – 5pm
URL:https://euniclondon.org/event/desire-to-create-batas-architecture-of-belonging/
LOCATION:Vitrínka Gallery\, Czech Centre London\, 30 Kensington Palace Gardens\, London\, W8 4QY\, United Kingdom
CATEGORIES:Art
ATTACH;FMTTYPE=image/jpeg:https://euniclondon.org/wp-content/uploads/2026/03/4f44b16930c96e3b868397657f54cccc.jpg
ORGANIZER;CN="Czech Centre":MAILTO:blues@czechcentre.org.uk
END:VEVENT
BEGIN:VEVENT
DTSTART;TZID=Europe/London:20260423T200000
DTEND;TZID=Europe/London:20260423T220000
DTSTAMP:20260422T173947
CREATED:20260408T142445Z
LAST-MODIFIED:20260408T142446Z
UID:10005511-1776974400-1776981600@euniclondon.org
SUMMARY:Fanfares for Leoš Janáček\, with special guest Jakub Hrůša
DESCRIPTION:An evening devoted to the electrifying late music of Leoš Janáček\, marking 100 years since the premiere of his jubilant masterpiece\, the Sinfonietta.\n\nConductor Jakub Hrůša\, writer and broadcaster Nigel Simeone\, and leading Janáček scholar Jiří Zahrádka explore the composer’s extraordinary creative surge in the final decade of his life. From his transformative meeting with Kamila Stösslová in 1917 to the radiant\, defiant energy of works like the Sinfonietta\, the discussion traces how personal passion and an unmistakably original musical language combined to produce some of the most compelling music of the 20th century.\n\nInterwoven with musical examples and personal reflections\, this is above all a celebration of Janáček’s enduring voice – alongside the launch of two new publications: Janáček’s Sinfonietta by Nigel Simeone and Jiří Zahrádka (Boydell\, 2026) and Káťa Kabanová and The Cunning Little Vixen: Janáček’s New Lease of Life by Jiří Zahrádka (Host\, 2026).\n\nJakub Hrůša is Music Director of the Royal Opera\, Covent Garden\, Chief Conductor of the Bamberg Symphony and Music Director Designate of the Czech Philharmonic (from 2028). Born in Brno\, he has been an ardent champion of Czech music around the world. The production of Janáček’s Makropulos Case at Covent Garden in 2025 has been nominated for an Olivier Award\, and many of his recordings have won international recognition\, including the Gramophone Opera Award for Káťa Kabanová at the Salzburg Festival. His complete cycle of Bohuslav Martinů’s symphonies will be released later this year by Deutsche Grammophon.\n\nNigel Simeone is a writer and broadcaster with a lifelong interest in Janáček. He is the author of several books on the composer including The Janáček Compendium (2019) and he is co-author the standard catalogue of Janáček’s works (1997). He appears regularly on BBC Radio 3 (Record Review\, Opera on 3\, and the Proms)\, and has written programme notes for the Royal Opera House\, London Symphony Orchestra\, Salzburg Festival\, Glyndebourne Festival and others.\n\nJiří Zahrádka is Director of the Janáček Archive in Brno and a musicologist. He is the editor of critical editions of many works by Janáček including the Sinfonietta\, Taras Bulba\, Káťa Kabanová\, The Cunning Little Vixen and The Makropulos Affair\, and he is the author of several books on Janáček including acclaimed full-length studies of the operas\, most recently Káťa Kabanová and The Cunning Little Vixen.\n\nAdmission: £5 (+ Eventbrite fee)\nBook Here
URL:https://euniclondon.org/event/fanfares-for-leos-janacek-with-special-guest-jakub-hrusa/
LOCATION:Czech Centre at the Czech Embassy Cinema\, 26 Kensington Palace Gardens\, London\, Select a State\, W8 4QY\, United Kingdom
CATEGORIES:Talks
ATTACH;FMTTYPE=image/jpeg:https://euniclondon.org/wp-content/uploads/2026/03/c6a4eeea082f67c2664bac558e69dace.jpg
ORGANIZER;CN="Czech Centre":MAILTO:blues@czechcentre.org.uk
END:VEVENT
END:VCALENDAR