BEGIN:VCALENDAR
VERSION:2.0
PRODID:-//EUNIC UK - ECPv6.15.20//NONSGML v1.0//EN
CALSCALE:GREGORIAN
METHOD:PUBLISH
X-WR-CALNAME:EUNIC UK
X-ORIGINAL-URL:https://euniclondon.org
X-WR-CALDESC:Events for EUNIC UK
REFRESH-INTERVAL;VALUE=DURATION:PT1H
X-Robots-Tag:noindex
X-PUBLISHED-TTL:PT1H
BEGIN:VTIMEZONE
TZID:Europe/London
BEGIN:DAYLIGHT
TZOFFSETFROM:+0000
TZOFFSETTO:+0100
TZNAME:BST
DTSTART:20240331T010000
END:DAYLIGHT
BEGIN:STANDARD
TZOFFSETFROM:+0100
TZOFFSETTO:+0000
TZNAME:GMT
DTSTART:20241027T010000
END:STANDARD
BEGIN:DAYLIGHT
TZOFFSETFROM:+0000
TZOFFSETTO:+0100
TZNAME:BST
DTSTART:20250330T010000
END:DAYLIGHT
BEGIN:STANDARD
TZOFFSETFROM:+0100
TZOFFSETTO:+0000
TZNAME:GMT
DTSTART:20251026T010000
END:STANDARD
BEGIN:DAYLIGHT
TZOFFSETFROM:+0000
TZOFFSETTO:+0100
TZNAME:BST
DTSTART:20260329T010000
END:DAYLIGHT
BEGIN:STANDARD
TZOFFSETFROM:+0100
TZOFFSETTO:+0000
TZNAME:GMT
DTSTART:20261025T010000
END:STANDARD
BEGIN:DAYLIGHT
TZOFFSETFROM:+0000
TZOFFSETTO:+0100
TZNAME:BST
DTSTART:20270328T010000
END:DAYLIGHT
BEGIN:STANDARD
TZOFFSETFROM:+0100
TZOFFSETTO:+0000
TZNAME:GMT
DTSTART:20271031T010000
END:STANDARD
END:VTIMEZONE
BEGIN:VEVENT
DTSTART;TZID=Europe/London:20251130T190000
DTEND;TZID=Europe/London:20251130T203000
DTSTAMP:20260420T222710
CREATED:20251102T213734Z
LAST-MODIFIED:20251102T213736Z
UID:10005407-1764529200-1764534600@euniclondon.org
SUMMARY:Pavel Šporcl with the English Chamber Orchestra: Strings of Brilliance
DESCRIPTION:The 29th Made in Prague Festival concludes in grand style with a gala celebrating Czech violin virtuoso Pavel Šporcl\, whose expressive artistry and dazzling technique have enthralled audiences worldwide. Following his triumphant concert at Queen Elizabeth Hall last year\, Šporcl returns to perform with the English Chamber Orchestra Ensemble in an evening of vibrant string music. The programme features Mendelssohn’s Octet in E-flat major\, bursting with youthful brilliance\, alongside Dvořák’s lyrical Romance and spirited Mazurek. Šporcl’s virtuosity will shine in a solo by Paganini\, ensuring a thrilling and unforgettable finale to this year’s festival. \n\n\n\n 	General admission: £25 (+ Eventbrite fee) / Family offer (3-5 tickets): £20 (+ Eventbrite fee)\n 	BOOK NOW
URL:https://euniclondon.org/event/pavel-sporcl-with-the-english-chamber-orchestra-strings-of-brilliance/
LOCATION:St Sepulchre’s Church\, Holborn Viaduct\, London \, EC1A 2DQ\, United Kingdom
ATTACH;FMTTYPE=image/jpeg:https://euniclondon.org/wp-content/uploads/2025/10/Pavel-Sporcl-IX.jpg
ORGANIZER;CN="Czech Centre London":MAILTO:info@czechcentre.org.uk
GEO:51.516417;-0.1024461
X-APPLE-STRUCTURED-LOCATION;VALUE=URI;X-ADDRESS=St Sepulchre’s Church Holborn Viaduct London  EC1A 2DQ United Kingdom;X-APPLE-RADIUS=500;X-TITLE=Holborn Viaduct:geo:-0.1024461,51.516417
END:VEVENT
BEGIN:VEVENT
DTSTART;TZID=Europe/London:20251031T100000
DTEND;TZID=Europe/London:20260116T170000
DTSTAMP:20260420T222710
CREATED:20251013T091605Z
LAST-MODIFIED:20251013T091615Z
UID:10005397-1761904800-1768582800@euniclondon.org
SUMMARY:Silent Systems: Breathing Devices (29th Made in Prague Festival)
DESCRIPTION:This group exhibition curated by British curator Daré Dada\, gathers works by Appau Junior Boakye-Yiadom\, Filomena Borecká\, Esther Gaton\, Evar Hussanyi and Henrique Paris to reimagine breath as more than a biological act. \n\nBreathing becomes rhythm and pulse\, presence and absence\, the invisible measure of life that extends beyond the body into objects\, spaces\, and systems. It invites viewers to ask: What is a breath of a city\, a machine\, a material archive? How might breathing become a metaphor for cultural memory\, ecological interdependence\, or technological survival? Filomena Borecká’s practice\, attuned to the subtle energies of air and time\, anchors the exhibition’s meditation on breath as both force and metaphor. Here\, stillness is unsettled: objects expand and contract\, silent systems exhale\, and the unseen currents of existence ripple quietly through matter\, inviting us to reconsider our entanglement with the material world. The works gathered here challenge the presumed stillness of things\, offering instead an ecology of quiet urgencies\, of devices that hold air\, circulate energy\, or embody invisible rhythms. \n\nEXHIBITION OPENING\nFriday 31 October 2025\, 6 – 7.30 pm  \nFree entry\, REGISTER NOW\nEXHIBITION DATES: 31 October 2025 – 16 January 2026\nVENUE\nVitrínka Gallery\, Czech Centre London\n30 Kensington Palace Gardens\, London\, W8 4QY\nOPENING HOURS:\nTue – Fri 10am – 5pm\n\nWhile exploring Silent Systems: Breathing Devices at Vitrínka Gallery\, you might also like to stop by the Czech Centre’s Bouda Gallery to see Filomena Borecká’s breathing sculpture.
URL:https://euniclondon.org/event/silent-systems-breathing-devices-29th-made-in-prague-festival/
LOCATION:Vitrínka Gallery\, Czech Centre London\, 30 Kensington Palace Gardens\, London\, W8 4QY\, United Kingdom
ATTACH;FMTTYPE=image/jpeg:https://euniclondon.org/wp-content/uploads/2025/10/Silent-Systems.jpeg
ORGANIZER;CN="Czech Centre London":MAILTO:info@czechcentre.org.uk
END:VEVENT
BEGIN:VEVENT
DTSTART;TZID=Europe/London:20251016T190000
DTEND;TZID=Europe/London:20251016T220000
DTSTAMP:20260420T222710
CREATED:20250918T084903Z
LAST-MODIFIED:20250918T084905Z
UID:10005381-1760641200-1760652000@euniclondon.org
SUMMARY:Echoes of Exile: A Family’s Odyssey through the Holocaust and Cold War
DESCRIPTION:Book launch conversation with Daniela Spenser\, chaired by Jana Burešová \n\n\n\n \n\nJoin us for a compelling evening with historian and anthropologist Daniela Grollová Spenser\, as she discusses her new book Echoes of Exile: A Family’s Odyssey through the Holocaust and Cold War.\n\nBlending personal history with political insight\, Spenser traces three generations of her family across some of the most turbulent chapters of the 20th century: from the devastation of the Holocaust and wartime imprisonment\, through the vibrant intellectual and political life of 1960s Czechoslovakia\, to the trauma of exile after the 1968 Soviet invasion. At the heart of the story are her mother\, translator Ruth Tosková\, and her stepfather\, editor and journalist Vladimír Tosek\, whose lives intertwined with prominent figures such as Jiří Pelikán and the émigré journal Listy.\n\nThe book—published in Czech by Argo (2025) and in English by the University of Alabama Press (2025)—offers a deeply human perspective on survival\, displacement\, and the shifting relationship between political exiles and Czech society after 1989.\n\nThe conversation will be chaired by Jana Burešová and will open a window into how private lives intersect with history on a global scale.\n\nAbout the author:\nDaniela Spenser is a fellow at CIESAS (Centro de Investigaciones y Estudios Superiores en Antropología Social) in Mexico City. She is also the author of The Impossible Triangle: Mexico\, Soviet Russia\, and the United States in the 1920sand Stumbling Its Way Through Mexico: The Early Years of the Communist International.\n\nSupported by the BCSA.\n\n 	Admission: 5 (+ Eventbrite fee)
URL:https://euniclondon.org/event/echoes-of-exile-a-familys-odyssey-through-the-holocaust-and-cold-war/
LOCATION:Czech Cente at the Czech Embassy Cinema\, 26 Kensington Palace Gardens\, London\, Select a State\, W8 4QY\, United Kingdom
CATEGORIES:Literature
ATTACH;FMTTYPE=image/png:https://euniclondon.org/wp-content/uploads/2025/09/Screenshot-2025-09-16-at-15.47.36.png
ORGANIZER;CN="Czech Centre London":MAILTO:info@czechcentre.org.uk
END:VEVENT
BEGIN:VEVENT
DTSTART;TZID=Europe/London:20250513T190000
DTEND;TZID=Europe/London:20250513T203000
DTSTAMP:20260420T222710
CREATED:20250422T162612Z
LAST-MODIFIED:20250422T162628Z
UID:10005312-1747162800-1747168200@euniclondon.org
SUMMARY:Women in Focus: Juliet Vopěnka Navrátilová
DESCRIPTION:The next edition of the Czech Centre’s Women in Focus series takes a unique turn—this time delving into the deeply personal and spiritual. Juliet Vopěnka Navrátilová\, author\, shamanic practitioner\, Blue Badge guide\, and anthropology student\, shares her transformative journey from illness and emotional struggle to healing and empowerment. Through sensitivity\, ritual\, and connection\, she redefines what it means to thrive in today’s world. \nAbout Juliet Vopěnka Navrátilová\n\nJuliet left the Czech Republic at 19 and spent two decades in London after a few years in Berlin. Her lifelong sensitivity\, once a burden\, became a strength during a deep “alchemical journey of metamorphoses.” This is also the subtitle of her second book\, Cesta (ne)mocné Londýňanky (The Journey of a Power(less) Londoner)\, which explores trauma\, healing\, and shamanic calling. Her London life included work in Wandsworth prison and as a Blue Badge guide. With degrees in Social and Medical Anthropology from Goldsmiths and UCL\, her study focused on consciousness\, ecofeminism\, and ritual. Her first book\, Myslet srdcem (Thinking with the Heart)\, became a Czech bestseller.About the Theme of the Evening – An Empath’s Journey from Rags to Riches \nIn this edition of the Czech Centre’s Women in Focus series\, Juliet Vopěnka Navrátilová offers a deeply personal and spiritual reflection on living with extreme sensitivity. Her “shamanic illness” became the turning point that redirected her path—from illness and emotional struggle to healing\, empowerment\, and purpose. In this context\, “rags to riches” refers not to material wealth\, but to emotional\, mental\, and spiritual abundance gained through self-understanding. \nThrough travels in Latin America and participation in shamanic ceremonies\, Juliet came to see her empathic nature as a gift rather than a burden. Empaths—highly sensitive\, neurodiverse individuals—often absorb others’ emotions unconsciously\, leading to exhaustion and illness. By embracing her sensitivity\, she now helps others reconnect with their intuition and inner power. As a shamanic practitioner\, she also energetically cleanses homes and spaces. Her journey is one of transformation through ritual\, awareness\, and heart-centred connection. \nwww.thinkingwiththeheart.com\nwww.mysletsrdcem.cz
URL:https://euniclondon.org/event/women-in-focus-juliet-vopenka-navratilova/
LOCATION:Czech Centre\, 30 Kensington Palace Gardens  \, London\, W8 4QY\, United Kingdom
CATEGORIES:Talks
ATTACH;FMTTYPE=image/jpeg:https://euniclondon.org/wp-content/uploads/2025/04/women-in-focus-16x9-Juliet-Vopenka-Navratilova-scaled.jpg
ORGANIZER;CN="Czech Centre London":MAILTO:info@czechcentre.org.uk
END:VEVENT
END:VCALENDAR