BEGIN:VCALENDAR
VERSION:2.0
PRODID:-//EUNIC UK - ECPv6.15.20//NONSGML v1.0//EN
CALSCALE:GREGORIAN
METHOD:PUBLISH
X-WR-CALNAME:EUNIC UK
X-ORIGINAL-URL:https://euniclondon.org
X-WR-CALDESC:Events for EUNIC UK
REFRESH-INTERVAL;VALUE=DURATION:PT1H
X-Robots-Tag:noindex
X-PUBLISHED-TTL:PT1H
BEGIN:VTIMEZONE
TZID:Europe/London
BEGIN:DAYLIGHT
TZOFFSETFROM:+0000
TZOFFSETTO:+0100
TZNAME:BST
DTSTART:20240331T010000
END:DAYLIGHT
BEGIN:STANDARD
TZOFFSETFROM:+0100
TZOFFSETTO:+0000
TZNAME:GMT
DTSTART:20241027T010000
END:STANDARD
BEGIN:DAYLIGHT
TZOFFSETFROM:+0000
TZOFFSETTO:+0100
TZNAME:BST
DTSTART:20250330T010000
END:DAYLIGHT
BEGIN:STANDARD
TZOFFSETFROM:+0100
TZOFFSETTO:+0000
TZNAME:GMT
DTSTART:20251026T010000
END:STANDARD
BEGIN:DAYLIGHT
TZOFFSETFROM:+0000
TZOFFSETTO:+0100
TZNAME:BST
DTSTART:20260329T010000
END:DAYLIGHT
BEGIN:STANDARD
TZOFFSETFROM:+0100
TZOFFSETTO:+0000
TZNAME:GMT
DTSTART:20261025T010000
END:STANDARD
END:VTIMEZONE
BEGIN:VEVENT
DTSTART;TZID=Europe/London:20251112T080000
DTEND;TZID=Europe/London:20251123T233000
DTSTAMP:20260420T172157
CREATED:20251027T120316Z
LAST-MODIFIED:20251027T120319Z
UID:10005400-1762934400-1763940600@euniclondon.org
SUMMARY:French Film Festival London 2025
DESCRIPTION:The French Film Festival London returns from 12 to 23 November at Ciné Lumière (French Institute of the United Kingdom)! \nCelebrate the vibrant world of French cinema with 33 captivating films and more than 70 screenings\, from bold new voices to the masters you love. Discover UK premieres\, award-winning titles\, exclusive Q&As\, and special events. \nExpect a dazzling mix of comedies\, documentaries\, personal stories\, social dramas\, thrillers\, and restored classics honouring Marcel Ophüls and Isabelle Adjani.
URL:https://euniclondon.org/event/french-film-festival-london-2025/
LOCATION:Cine Lumiere\, 17 Queensberry Place\, London\, SW7 2DT\, United Kingdom
CATEGORIES:Film
ATTACH;FMTTYPE=image/jpeg:https://euniclondon.org/wp-content/uploads/2025/10/fffl2025-website.jpg
GEO:51.4945863;-0.1773215
X-APPLE-STRUCTURED-LOCATION;VALUE=URI;X-ADDRESS=Cine Lumiere 17 Queensberry Place London SW7 2DT United Kingdom;X-APPLE-RADIUS=500;X-TITLE=17 Queensberry Place:geo:-0.1773215,51.4945863
END:VEVENT
END:VCALENDAR