BEGIN:VCALENDAR
VERSION:2.0
PRODID:-//EUNIC UK - ECPv6.15.20//NONSGML v1.0//EN
CALSCALE:GREGORIAN
METHOD:PUBLISH
X-WR-CALNAME:EUNIC UK
X-ORIGINAL-URL:https://euniclondon.org
X-WR-CALDESC:Events for EUNIC UK
REFRESH-INTERVAL;VALUE=DURATION:PT1H
X-Robots-Tag:noindex
X-PUBLISHED-TTL:PT1H
BEGIN:VTIMEZONE
TZID:Europe/London
BEGIN:DAYLIGHT
TZOFFSETFROM:+0000
TZOFFSETTO:+0100
TZNAME:BST
DTSTART:20240331T010000
END:DAYLIGHT
BEGIN:STANDARD
TZOFFSETFROM:+0100
TZOFFSETTO:+0000
TZNAME:GMT
DTSTART:20241027T010000
END:STANDARD
BEGIN:DAYLIGHT
TZOFFSETFROM:+0000
TZOFFSETTO:+0100
TZNAME:BST
DTSTART:20250330T010000
END:DAYLIGHT
BEGIN:STANDARD
TZOFFSETFROM:+0100
TZOFFSETTO:+0000
TZNAME:GMT
DTSTART:20251026T010000
END:STANDARD
BEGIN:DAYLIGHT
TZOFFSETFROM:+0000
TZOFFSETTO:+0100
TZNAME:BST
DTSTART:20260329T010000
END:DAYLIGHT
BEGIN:STANDARD
TZOFFSETFROM:+0100
TZOFFSETTO:+0000
TZNAME:GMT
DTSTART:20261025T010000
END:STANDARD
END:VTIMEZONE
BEGIN:VEVENT
DTSTART;TZID=Europe/London:20250528T193000
DTEND;TZID=Europe/London:20250528T203000
DTSTAMP:20260421T202716
CREATED:20250508T210345Z
LAST-MODIFIED:20250508T210347Z
UID:10005323-1748460600-1748464200@euniclondon.org
SUMMARY:Sándor Weöres's PSYCHE - monodrama in one act
DESCRIPTION:Liszt Institute London invites you to a unique monodrama\, Psyche\, the first English translation of a one-woman show from Sándor Weöres’ collections of letters\, poems\, and various documents that chronicle the life of a fictional 19th-century woman around whom the play centres.\n\nElizabeth Lonyay\, alias Psyche\, a gypsy countess and poet\, wanders across Europe during the Napoleonic era in a chauvinistic society that challenges her independence. Based on the unique book Psyche: Writings of an Erstwhile Poetess\, written in 1972 by Hungary’s celebrated national poet\, Sándor Weöres; this production brings a cornerstone of Hungarian literature to English-speaking audiences for the first time.\n\nA ‘purification‘ in 60 minutes.\n\n‘I\, on the other hand\, give a sense of touch\, taste\, and smell to everything I write about. When I write about eating cake\, the reader should think he is eating one; if I should mention my breasts or my waist\, they should feel themselves bedding me\, or sitting closely beside me. I wish to be the whore Venus embracing all the World\, or if that is not possible\, of all my Readers.‘\n\nPerformed in English. 
URL:https://euniclondon.org/event/sandor-weoress-psyche-monodrama-in-one-act/
LOCATION:Liszt Institute Hungarian Cultural Centre London\, 17-19 Cockspur St.\, London \, SW1Y 5BL\, United Kingdom
CATEGORIES:Theatre & Dance
ATTACH;FMTTYPE=image/jpeg:https://euniclondon.org/wp-content/uploads/2025/05/Psyche_Social.jpg
ORGANIZER;CN="Liszt Institute Hungarian Cultural Centre London":MAILTO:info@hungary.org.uk
END:VEVENT
BEGIN:VEVENT
DTSTART;TZID=Europe/London:20250527T190000
DTEND;TZID=Europe/London:20250527T203000
DTSTAMP:20260421T202716
CREATED:20250519T181153Z
LAST-MODIFIED:20250519T181154Z
UID:10005334-1748372400-1748377800@euniclondon.org
SUMMARY:Alexandra Balog Piano Recital - An Evening with Internationally Acclaimed Pianist Alexandra Balog
DESCRIPTION:Liszt Institute London is delighted to welcome internationally acclaimed pianist Alexandra Balog back to London following her May Carnegie Hall debut in New York.\n\nHailed by Radio Bartók’s New Music News for her ‘elemental force\, virtuosity\, and energy\,’ and described by Forbes as ‘a Hungarian pianist who is a real wonder creature\,’ Alexandra has captivated audiences across the globe with sold-out performances and standing ovations.\n\nWinner of the 2017 Béla Bartók International Piano Competition in Graz\, she has since gone on to receive the Talentum Hungaricum Award (2020)\, the Junior Príma Prize (2023)—Hungary’s most prestigious accolade for young musicians—and\, most recently\, First Prize at the 2024 Franz Liszt Centre International Piano Competition in La Nucia\, Spain.\n\nAs a soloist\, Alexandra has performed with orchestras including the Savaria Symphony Orchestra\, the Szent István Philharmonic\, the Danube Symphony Orchestra\, the Resonate Chamber Orchestra\, and the orchestra of the Royal Academy of Music. Her recital engagements have taken her to major venues in Hungary\, the Tchaikovsky Conservatory in Moscow\, La Chapelle Musicale in Brussels\, and to audiences across Europe\, the United States\, Mexico\, Russia\, China\, and the Philippines. Her upcoming season includes performances in Paris\, Vienna\, Berlin\, Budapest\, Tokyo\, Shanghai\, Beijing\, and London.\n\nA passionate advocate for young talent\, Alexandra is the Founder and Artistic Director of the Altalena Music Festival and Summer Academy\, and a leading member of Altalena Young Artists\, a vibrant community of outstanding young musicians. In 2024\, she was recognised on Forbes’ ’30 Successful Hungarians Under 30′ list for her achievements both on and off the stage.\n\nA graduate of the Royal Academy of Music in London\, Alexandra also holds an Artist Diploma from the University of Music in Graz and is currently pursuing advanced performance studies at the Bard College Conservatory of Music in New York\, supported by a Fulbright Scholarship.\n\nJoin us for this special evening and experience the artistry of one of the most exciting pianists of her generation\, as she performs on our new concert grand piano.\n\nWe look forward to seeing you there!
URL:https://euniclondon.org/event/alexandra-balog-piano-recital-an-evening-with-internationally-acclaimed-pianist-alexandra-balog/
LOCATION:Liszt Institute Hungarian Cultural Centre London\, 17-19 Cockspur St.\, London \, SW1Y 5BL\, United Kingdom
CATEGORIES:Music
ATTACH;FMTTYPE=image/jpeg:https://euniclondon.org/wp-content/uploads/2025/05/Alexandra-Balog-website.jpg
ORGANIZER;CN="Liszt Institute Hungarian Cultural Centre London":MAILTO:info@hungary.org.uk
END:VEVENT
BEGIN:VEVENT
DTSTART;TZID=Europe/London:20250509T110000
DTEND;TZID=Europe/London:20250613T150000
DTSTAMP:20260421T202716
CREATED:20250508T151223Z
LAST-MODIFIED:20250508T151227Z
UID:10005322-1746788400-1749826800@euniclondon.org
SUMMARY:Kings’ Medals - Hungary’s Millenary Royal History exhibition
DESCRIPTION:Liszt Institute London is delighted to present our second exhibition\, titled Kings’ Medals: Hungary’s Millenary Royal History. The exhibition will be open to the public between 9 May – 13 June\, Monday through Thursday\, 2-6 pm\, and Fridays\, 11 am-3 pm. \nFor over 50 years\, the Alba Regia Organisation of the Hungarian Numismatic Society has played a key role in preserving Hungary’s numismatic heritage. Between 1972 and 2012\, the organisation issued and collaborated on 54 commemorative medals celebrating the country’s royal history. \nA major milestone came in 1986 with the launch of the ‘Kings Crowned and Buried in Székesfehérvár’ medal series\, later followed by ‘Királysor’\, honouring Hungarian kings of the Habsburg dynasty. Over 25 years\, this ambitious project produced 35 medals crafted through the collaboration of renowned sculptors\, goldsmiths\, and dedicated collectors. \nThis exhibition offers a unique insight into the artistry and craftsmanship behind these medals\, showcasing original designs\, minting techniques\, and the historical figures they commemorate. A detailed catalogue provides further context\, making this a must-see for history enthusiasts\, coin collectors\, and visitors to Székesfehérvár. \nThe medals\, issued annually at the Alba Regia Numismatic Meeting\, are a lasting tribute to Hungary’s royal legacy—a tangible connection to the nation’s past\, preserved in metal for future generations.
URL:https://euniclondon.org/event/kings-medals-hungarys-millenary-royal-history-exhibition/
LOCATION:Hungarian Cultural Centre\, 10 Maiden Lane\, London\, London\, WC2E 7NA\, United Kingdom
CATEGORIES:Art
ATTACH;FMTTYPE=image/png:https://euniclondon.org/wp-content/uploads/2025/05/Kiralyerme_website_acslogo.png
ORGANIZER;CN="Liszt Institute Hungarian Cultural Centre London":MAILTO:info@hungary.org.uk
GEO:51.5102115;-0.1232743
X-APPLE-STRUCTURED-LOCATION;VALUE=URI;X-ADDRESS=Hungarian Cultural Centre 10 Maiden Lane London London WC2E 7NA United Kingdom;X-APPLE-RADIUS=500;X-TITLE=10 Maiden Lane:geo:-0.1232743,51.5102115
END:VEVENT
END:VCALENDAR