BEGIN:VCALENDAR
VERSION:2.0
PRODID:-//EUNIC UK - ECPv6.15.20//NONSGML v1.0//EN
CALSCALE:GREGORIAN
METHOD:PUBLISH
X-ORIGINAL-URL:https://euniclondon.org
X-WR-CALDESC:Events for EUNIC UK
REFRESH-INTERVAL;VALUE=DURATION:PT1H
X-Robots-Tag:noindex
X-PUBLISHED-TTL:PT1H
BEGIN:VTIMEZONE
TZID:Europe/London
BEGIN:DAYLIGHT
TZOFFSETFROM:+0000
TZOFFSETTO:+0100
TZNAME:BST
DTSTART:20240331T010000
END:DAYLIGHT
BEGIN:STANDARD
TZOFFSETFROM:+0100
TZOFFSETTO:+0000
TZNAME:GMT
DTSTART:20241027T010000
END:STANDARD
BEGIN:DAYLIGHT
TZOFFSETFROM:+0000
TZOFFSETTO:+0100
TZNAME:BST
DTSTART:20250330T010000
END:DAYLIGHT
BEGIN:STANDARD
TZOFFSETFROM:+0100
TZOFFSETTO:+0000
TZNAME:GMT
DTSTART:20251026T010000
END:STANDARD
BEGIN:DAYLIGHT
TZOFFSETFROM:+0000
TZOFFSETTO:+0100
TZNAME:BST
DTSTART:20260329T010000
END:DAYLIGHT
BEGIN:STANDARD
TZOFFSETFROM:+0100
TZOFFSETTO:+0000
TZNAME:GMT
DTSTART:20261025T010000
END:STANDARD
END:VTIMEZONE
BEGIN:VEVENT
DTSTART;TZID=Europe/London:20250409T000000
DTEND;TZID=Europe/London:20251219T235959
DTSTAMP:20260424T073910
CREATED:20250407T092347Z
LAST-MODIFIED:20250407T092349Z
UID:10005301-1744156800-1766188799@euniclondon.org
SUMMARY:NEW SITE-SPECIFIC EXHIBITION BY LINA LAPELYTĖ at The Cosmic House
DESCRIPTION:The Cosmic House launches a new site-specific performative and musical video work by artist and composer Lina Lapelytė. In The Dark\, We Play (2025) is composed and performed in collaboration with Nouria Bah\, Anat Ben-David\, Angharad Davies\, Sharon Gal\, and Rebecca Horrox\, a group of musicians and artists with whom Lapelytė previously created the musical performance piece Candy Shop (2013). Lina Lapelytė is part of the creative team responsible for the opera and indoor beach installation\, Sun & Sea (Marina) which won the Golden Lion for the best national pavilion presentation at the 2019 Venice Biennale.  \n\n\n\nLapelytė’s work shifts our perspective to see The Cosmic House\, Charles Jencks’ former home and post-modernist manifesto\, as a theatrical stage and a collage of musical contraptions. Taking inspiration from the polyphonous ambition of this work\, but weaving in new contemporary voices\, Lapelytė and her collaborators foreground the mundane and sensory\, and invite intimate engagement with the house through their divergent elucidations of the cosmic. The resulting work is an intricate interplay of quotations and a layered dialogue between past and present\, the intellectual and the sensory\, the cosmic and the human. A series of filmed fragments follow the performers as they ponder\, commune\, and weave new interpretations of cosmic themes. They playfully inhabit the house\, drawing out some details and symbols and sliding past others—like the orbit of a singing comet that comes tantalisingly close before arching far away into mystery. \n\n\n\nIn partnership with the Lithuanian Culture Institute. \n\n\n\nMore information: Exhibitions – The Cosmic House \n\n\n\nImage: : Lina Lapelytė\, conceived in collaboration with Nouria Bah\, Anat Ben-David\, Angharad Davies\, Sharon Gal\, Rebecca Horrox\, and Martynas Norvaišas\, In the Dark\, We Play\, 2025\, video still by Martynas Norvaišas\, commissioned by the Jencks Foundation at The Cosmic House
URL:https://euniclondon.org/event/new-site-specific-exhibition-by-lina-lapelyte-at-the-cosmic-house/
LOCATION:The Cosmic House\, 19 Lansdowne Walk\, London\, W11 3AH +44\, United Kingdom
ATTACH;FMTTYPE=image/avif:https://euniclondon.org/wp-content/uploads/2025/04/32bc15b973bdfd7f24fef1fe1bc9962f53610982-1920x1080.jpg.avif
END:VEVENT
END:VCALENDAR