BEGIN:VCALENDAR
VERSION:2.0
PRODID:-//EUNIC UK - ECPv6.15.20//NONSGML v1.0//EN
CALSCALE:GREGORIAN
METHOD:PUBLISH
X-ORIGINAL-URL:https://euniclondon.org
X-WR-CALDESC:Events for EUNIC UK
REFRESH-INTERVAL;VALUE=DURATION:PT1H
X-Robots-Tag:noindex
X-PUBLISHED-TTL:PT1H
BEGIN:VTIMEZONE
TZID:Europe/London
BEGIN:DAYLIGHT
TZOFFSETFROM:+0000
TZOFFSETTO:+0100
TZNAME:BST
DTSTART:20240331T010000
END:DAYLIGHT
BEGIN:STANDARD
TZOFFSETFROM:+0100
TZOFFSETTO:+0000
TZNAME:GMT
DTSTART:20241027T010000
END:STANDARD
BEGIN:DAYLIGHT
TZOFFSETFROM:+0000
TZOFFSETTO:+0100
TZNAME:BST
DTSTART:20250330T010000
END:DAYLIGHT
BEGIN:STANDARD
TZOFFSETFROM:+0100
TZOFFSETTO:+0000
TZNAME:GMT
DTSTART:20251026T010000
END:STANDARD
BEGIN:DAYLIGHT
TZOFFSETFROM:+0000
TZOFFSETTO:+0100
TZNAME:BST
DTSTART:20260329T010000
END:DAYLIGHT
BEGIN:STANDARD
TZOFFSETFROM:+0100
TZOFFSETTO:+0000
TZNAME:GMT
DTSTART:20261025T010000
END:STANDARD
END:VTIMEZONE
BEGIN:VEVENT
DTSTART;TZID=Europe/London:20250701T190000
DTEND;TZID=Europe/London:20250701T210000
DTSTAMP:20260420T171024
CREATED:20250610T204923Z
LAST-MODIFIED:20250610T204924Z
UID:10005342-1751396400-1751403600@euniclondon.org
SUMMARY:Jiří Bartoška In Memoriam: Shadows of a Hot Summer
DESCRIPTION:To honour the late Jiří Bartoška (1947–2025)\, iconic Czech actor and longtime president of the Karlovy Vary International Film Festival\, and to mark the 80th anniversary of the end of the Second World War\, the Czech Centre presents a special screening of the digitally restored Shadows of a Hot Summer (Stíny horkého léta)\, a haunting post-war drama from legendary Czech filmmaker František Vláčil. \nSet in the Beskydy Mountains two years after the end of WWII\, the film follows shepherd Ondřej Baran (Juraj Kukura)\, who lives peacefully with his wife (Marta Vančurová) and two children on an isolated farmstead. Their quiet existence is shattered when a retreating band of Ukrainian nationalist paramilitaries—part of a guerrilla force fighting Soviet control—invades their home\, seeking refuge and medical help for a wounded comrade on their flight to the West. As the family is taken hostage—along with the local doctor—Ondřej is thrust into a moral and physical battle\, forced to protect his loved ones in the face of escalating violence and psychological torment. \n\n\n\n\n\nFeaturing a chillingly memorable performance by Jiří Bartoška in one of his darkest roles\, Shadows of a Hot Summer is a masterclass in suspense and visual storytelling. Vláčil applies the classical unities of time\, place\, and action to build mounting tension through muted performances\, stark camerawork\, and an unforgettable score by Zdeněk Liška—his final collaboration with Vláčil. \n\n\n\n\nWinner of the Crystal Globe at the 1978 Karlovy Vary International Film Festival andrecently restored for its 2024 KVIFF premiere\, this powerful ballad of moral resistance and quiet heroism remains as urgent and resonant today as ever. A psychological thriller wrapped in poetic austerity\, it stands as a lasting testament to the artistic legacy of both Jiří Bartoška and František Vláčil. \nFrantišek Vláčil\, Czechoslovakia 1977\, 100’\, English subtitles\nCast: Juraj Kukura\, Marta Vančurová\, Jiří Bartoška\, Gustáv Valach\, Robert Lischke \n\nAdmission: £7 (+ Eventbrite fee)
URL:https://euniclondon.org/event/jiri-bartoska-in-memoriam-shadows-of-a-hot-summer/
LOCATION:Czech Embassy Cinema\, 26 Kensington Palace Gardens\, London\, W8 4QY\, United Kingdom
CATEGORIES:Film
ATTACH;FMTTYPE=image/jpeg:https://euniclondon.org/wp-content/uploads/2025/05/Stiny-horkehe-leta-1.jpg
ORGANIZER;CN="Czech Centre London":MAILTO:info@czechcentre.org.uk
END:VEVENT
END:VCALENDAR