BEGIN:VCALENDAR
VERSION:2.0
PRODID:-//EUNIC UK - ECPv6.15.20//NONSGML v1.0//EN
CALSCALE:GREGORIAN
METHOD:PUBLISH
X-ORIGINAL-URL:https://euniclondon.org
X-WR-CALDESC:Events for EUNIC UK
REFRESH-INTERVAL;VALUE=DURATION:PT1H
X-Robots-Tag:noindex
X-PUBLISHED-TTL:PT1H
BEGIN:VTIMEZONE
TZID:Europe/London
BEGIN:DAYLIGHT
TZOFFSETFROM:+0000
TZOFFSETTO:+0100
TZNAME:BST
DTSTART:20240331T010000
END:DAYLIGHT
BEGIN:STANDARD
TZOFFSETFROM:+0100
TZOFFSETTO:+0000
TZNAME:GMT
DTSTART:20241027T010000
END:STANDARD
BEGIN:DAYLIGHT
TZOFFSETFROM:+0000
TZOFFSETTO:+0100
TZNAME:BST
DTSTART:20250330T010000
END:DAYLIGHT
BEGIN:STANDARD
TZOFFSETFROM:+0100
TZOFFSETTO:+0000
TZNAME:GMT
DTSTART:20251026T010000
END:STANDARD
BEGIN:DAYLIGHT
TZOFFSETFROM:+0000
TZOFFSETTO:+0100
TZNAME:BST
DTSTART:20260329T010000
END:DAYLIGHT
BEGIN:STANDARD
TZOFFSETFROM:+0100
TZOFFSETTO:+0000
TZNAME:GMT
DTSTART:20261025T010000
END:STANDARD
END:VTIMEZONE
BEGIN:VEVENT
DTSTART;TZID=Europe/London:20250228T173000
DTEND;TZID=Europe/London:20250630T170000
DTSTAMP:20260424T080009
CREATED:20250224T104545Z
LAST-MODIFIED:20250224T104546Z
UID:10005273-1740763800-1751302800@euniclondon.org
SUMMARY:Identity - The Story of Czech Graphic Design
DESCRIPTION:Graphic design—including posters\, books\, magazines\, logos\, orientation systems\, and even national symbols—plays a crucial role in shaping the identity of every nation. For the Czech Republic (and formerly Czechoslovakia)\, the history of graphic design since the early 20th century has been particularly complex. The Czechs had to fight for their own statehood\, endure two world wars\, navigate two totalitarian regimes\, and transition from a socialist planned economy to a market economy. \n\nThrough original works and reproductions\, visitors to the exhibition will explore the most significant achievements in Czech graphic design and learn about their creators. Accompanied by detailed texts\, the exhibition positions these works within their broader cultural\, historical\, and political contexts\, showcasing the power of graphic design to influence society and reflect societal changes.\n\nCurated by  Filip Blažek and Linda Kudrnovská\, in collaboration with commissioner David Korecký\, the exhibition is part of the multi-genre project Identity – The Story of Czech Graphic Design(www.projektidentita.cz). This ambitious initiative also includes a seven-part television series\, a feature film\, and a bilingual monograph (published in Czech and English) under the same title.\n\nThe traveling exhibition Identity is a collaboration between by Typo\, the Mowshe Studio\, the Museum of Literature\, and the Czech Centres network. The graphic design was undertaken by the Marvil Studio\, while the exhibition design was created by Adam Blažek\, Jan Kloss\, and Matěj Činčera from Okolo.\n\n 	EXHIBITION OPENING\nWith curators Filip Blažek and Linda Kudrnovská\nFriday 28 February 2025\, 18:30 – 20:30\nFree entry\, REGISTER HERE\n 	EXHIBITION DATES: 28 February – 30 June 2025\n 	VENUE\nVitrínka Gallery\, Czech Centre London\n30 Kensington Palace Gardens\, London\, W8 4QY\n&\nBouda Gallery\, Czech Centre London\n132 Palace Gardens Terrace\, Kensington\, London\, W8 4RT\n 	OPENING HOURS:\nTue – Fri 10am – 5pm\nor by appointment – +44 (0) 207 836 3669
URL:https://euniclondon.org/event/identity-the-story-of-czech-graphic-design/
LOCATION:Czech Centre’s Vitrínka Gallery\, 30 Kensington Palace Gardens\, London\, Select a State\, W8 4QY\, United Kingdom
CATEGORIES:Art,Design
ATTACH;FMTTYPE=image/jpeg:https://euniclondon.org/wp-content/uploads/2025/02/5307bd3a41b88495f2bc1830d311c26d.jpeg
ORGANIZER;CN="Czech Centre":MAILTO:blues@czechcentre.org.uk
END:VEVENT
END:VCALENDAR