BEGIN:VCALENDAR
VERSION:2.0
PRODID:-//EUNIC UK - ECPv6.15.20//NONSGML v1.0//EN
CALSCALE:GREGORIAN
METHOD:PUBLISH
X-ORIGINAL-URL:https://euniclondon.org
X-WR-CALDESC:Events for EUNIC UK
REFRESH-INTERVAL;VALUE=DURATION:PT1H
X-Robots-Tag:noindex
X-PUBLISHED-TTL:PT1H
BEGIN:VTIMEZONE
TZID:Europe/London
BEGIN:DAYLIGHT
TZOFFSETFROM:+0000
TZOFFSETTO:+0100
TZNAME:BST
DTSTART:20240331T010000
END:DAYLIGHT
BEGIN:STANDARD
TZOFFSETFROM:+0100
TZOFFSETTO:+0000
TZNAME:GMT
DTSTART:20241027T010000
END:STANDARD
BEGIN:DAYLIGHT
TZOFFSETFROM:+0000
TZOFFSETTO:+0100
TZNAME:BST
DTSTART:20250330T010000
END:DAYLIGHT
BEGIN:STANDARD
TZOFFSETFROM:+0100
TZOFFSETTO:+0000
TZNAME:GMT
DTSTART:20251026T010000
END:STANDARD
BEGIN:DAYLIGHT
TZOFFSETFROM:+0000
TZOFFSETTO:+0100
TZNAME:BST
DTSTART:20260329T010000
END:DAYLIGHT
BEGIN:STANDARD
TZOFFSETFROM:+0100
TZOFFSETTO:+0000
TZNAME:GMT
DTSTART:20261025T010000
END:STANDARD
END:VTIMEZONE
BEGIN:VEVENT
DTSTART;TZID=Europe/London:20250918T080000
DTEND;TZID=Europe/London:20250929T183000
DTSTAMP:20260420T172500
CREATED:20250918T084958Z
LAST-MODIFIED:20250918T085000Z
UID:10005384-1758182400-1759170600@euniclondon.org
SUMMARY:Presentation of Rubén Sánchez’s film La verbena in London
DESCRIPTION:The production is an aesthetic\, narrative and conceptual bet that focuses on the reunion of Alex and Marc\, marked by two events that impact both characters. On the one hand\, Gabriel D’Almeida plays Alex\, a young man who is about to become a father and who struggles with the acceptance of his homosexuality. On the other hand\, Robin Reese gives life to Marc\, his best friend\, who brings with him news that they both must come to terms with. Throughout the film\, the characters evolve\, revealing their secrets to accept themselves…\n\nThe director of Furias\, Rubén Sánchez\, has finished shooting his new project\, the medium-length film “La Verbena”. The story stars Alex\, played by Gabriel D’Almeida\, who also starred in the 2019 film “Matthias & Maxime\,” directed by Xavier Dolan\, and Marc (Robin Reese). It is also produced by Carla Sanchez\, who makes her feature film debut with a plot that addresses LGBTQ+ issues.\n\nOne summer night in Barcelona\, Alex and his girlfriend Anna (Aida Quintana) organize a reunion with a group of friends at a festival. Marc unexpectedly returns from London at that time to meet Alex\, an old friend of his in England. However\, as the story unfolds in seventeen precise minutes\, it is discovered that Anna is pregnant\, which provokes a mixed reaction of jealousy and joy in the British actor. But what Alex’s girlfriend doesn’t know is that Marc and the father of her future child are more than friends\, and that during their stay in London they had a secret relationship. This unconfessed homosexuality of Gabriel D’Almeida’s character creates in the viewer a sense of uncertainty about his future\, as he is about to become a father and start a family. Everything will change for the character when it is revealed that Marc is HIV positive\, and that he is about to become a father and start a family.\n\n 
URL:https://euniclondon.org/event/presentation-of-ruben-sanchezs-film-la-verbena-in-london/
LOCATION:12 Star Gallery\, Europe House\, 32 Smith Square\, London\, SW1P 3EU \, United Kingdom
ATTACH;FMTTYPE=image/jpeg:https://euniclondon.org/wp-content/uploads/2025/09/Captura-de-pantalla-2024-10-07-a-las-11.13.53-scaled.jpg
END:VEVENT
END:VCALENDAR