BEGIN:VCALENDAR
VERSION:2.0
PRODID:-//EUNIC UK - ECPv6.15.20//NONSGML v1.0//EN
CALSCALE:GREGORIAN
METHOD:PUBLISH
X-WR-CALNAME:EUNIC UK
X-ORIGINAL-URL:https://euniclondon.org
X-WR-CALDESC:Events for EUNIC UK
REFRESH-INTERVAL;VALUE=DURATION:PT1H
X-Robots-Tag:noindex
X-PUBLISHED-TTL:PT1H
BEGIN:VTIMEZONE
TZID:Europe/London
BEGIN:DAYLIGHT
TZOFFSETFROM:+0000
TZOFFSETTO:+0100
TZNAME:BST
DTSTART:20240331T010000
END:DAYLIGHT
BEGIN:STANDARD
TZOFFSETFROM:+0100
TZOFFSETTO:+0000
TZNAME:GMT
DTSTART:20241027T010000
END:STANDARD
BEGIN:DAYLIGHT
TZOFFSETFROM:+0000
TZOFFSETTO:+0100
TZNAME:BST
DTSTART:20250330T010000
END:DAYLIGHT
BEGIN:STANDARD
TZOFFSETFROM:+0100
TZOFFSETTO:+0000
TZNAME:GMT
DTSTART:20251026T010000
END:STANDARD
BEGIN:DAYLIGHT
TZOFFSETFROM:+0000
TZOFFSETTO:+0100
TZNAME:BST
DTSTART:20260329T010000
END:DAYLIGHT
BEGIN:STANDARD
TZOFFSETFROM:+0100
TZOFFSETTO:+0000
TZNAME:GMT
DTSTART:20261025T010000
END:STANDARD
BEGIN:DAYLIGHT
TZOFFSETFROM:+0000
TZOFFSETTO:+0100
TZNAME:BST
DTSTART:20270328T010000
END:DAYLIGHT
BEGIN:STANDARD
TZOFFSETFROM:+0100
TZOFFSETTO:+0000
TZNAME:GMT
DTSTART:20271031T010000
END:STANDARD
END:VTIMEZONE
BEGIN:VEVENT
DTSTART;TZID=Europe/London:20251031T100000
DTEND;TZID=Europe/London:20260116T170000
DTSTAMP:20260423T101821
CREATED:20251013T091605Z
LAST-MODIFIED:20251013T091615Z
UID:10005397-1761904800-1768582800@euniclondon.org
SUMMARY:Silent Systems: Breathing Devices (29th Made in Prague Festival)
DESCRIPTION:This group exhibition curated by British curator Daré Dada\, gathers works by Appau Junior Boakye-Yiadom\, Filomena Borecká\, Esther Gaton\, Evar Hussanyi and Henrique Paris to reimagine breath as more than a biological act. \n\nBreathing becomes rhythm and pulse\, presence and absence\, the invisible measure of life that extends beyond the body into objects\, spaces\, and systems. It invites viewers to ask: What is a breath of a city\, a machine\, a material archive? How might breathing become a metaphor for cultural memory\, ecological interdependence\, or technological survival? Filomena Borecká’s practice\, attuned to the subtle energies of air and time\, anchors the exhibition’s meditation on breath as both force and metaphor. Here\, stillness is unsettled: objects expand and contract\, silent systems exhale\, and the unseen currents of existence ripple quietly through matter\, inviting us to reconsider our entanglement with the material world. The works gathered here challenge the presumed stillness of things\, offering instead an ecology of quiet urgencies\, of devices that hold air\, circulate energy\, or embody invisible rhythms. \n\nEXHIBITION OPENING\nFriday 31 October 2025\, 6 – 7.30 pm  \nFree entry\, REGISTER NOW\nEXHIBITION DATES: 31 October 2025 – 16 January 2026\nVENUE\nVitrínka Gallery\, Czech Centre London\n30 Kensington Palace Gardens\, London\, W8 4QY\nOPENING HOURS:\nTue – Fri 10am – 5pm\n\nWhile exploring Silent Systems: Breathing Devices at Vitrínka Gallery\, you might also like to stop by the Czech Centre’s Bouda Gallery to see Filomena Borecká’s breathing sculpture.
URL:https://euniclondon.org/event/silent-systems-breathing-devices-29th-made-in-prague-festival/
LOCATION:Vitrínka Gallery\, Czech Centre London\, 30 Kensington Palace Gardens\, London\, W8 4QY\, United Kingdom
ATTACH;FMTTYPE=image/jpeg:https://euniclondon.org/wp-content/uploads/2025/10/Silent-Systems.jpeg
ORGANIZER;CN="Czech Centre London":MAILTO:info@czechcentre.org.uk
END:VEVENT
BEGIN:VEVENT
DTSTART;TZID=Europe/London:20250711T100000
DTEND;TZID=Europe/London:20250831T170000
DTSTAMP:20260423T101821
CREATED:20250617T162758Z
LAST-MODIFIED:20250617T162759Z
UID:10005352-1752228000-1756659600@euniclondon.org
SUMMARY:They All Met in Karlsbad
DESCRIPTION:During the summer\, the Czech Centre’s Vitrínka Gallery presents a group exhibition showcasing recent works by eight emerging Czech artists from the 2024 Karlovy Vary (Karlsbad) residencies. Their cross-disciplinary pieces reflect the town’s rich heritage and spirit of collaboration. \n\nThe Magnus Art Gallery in Prague  launched its residency programme after gaining access to an elegant apartment in an Art Nouveau palace in Karlovy Vary. Designed for two artists at a time\, the residency fosters dialogue between disciplines and encourages creative exchange. \nIn 2024\, seven artist pairs took part\, often blending media—glass with textiles\, sculpture with painting. The town’s distinctive spa town atmosphere and layered history became a powerful source of inspiration. \nInitially shown at the palace’s Display Gallery and later in Prague\, a selection of these pieces now comes to London’s Vitrínka Gallery\, offering a glimpse into how young Czech art flourishes when given space and freedom to experiment. \nArtists exhibiting in London\nAnežka Hošková & Jakub Hošek\nAnežka Hošková’s paintings reflect her romantic vision of Karlovy Vary’s churches\, landscapes\, and mineral springs\, merging meditative experiences with watercolour techniques. Jakub Hošek responded to the city’s uneasy history\, blending beautiful and dark elements into stitched compositions filled with texts\, emotions and urban fragments. \nKaríma Al-Mukhtarová & TEA\nKaríma Al-Mukhtarová explored the transformative symbolism of bathing in a monumental tapestry\, capturing the moment between death\, acceptance and rebirth. TEA created a sculpture of a scribe inspired by Egyptian aesthetics\, integrating fragments of Karíma’s tapestry into the work\, reflecting on shared experience and artistic imprint. \nAnna Jožová & Lucie Rosická\nAnna Jožová and Lucie Rosická investigated materials tied to Karlovy Vary’s nature and culture. Jožová’s luminous glass objects engaged in dialogue with Rosická’s embroidered textiles\, as both artists inspired each other to cross creative and material boundaries\, exchanging insights from their differing practices. \nNéphéli Barbas & Jakub Tytykalo\nNéphéli Barbas was drawn to the city’s layered architecture and forested surroundings\, translating these into sculptural forms of bent aluminium. Jakub Tytykalo created a unique series of paintings exploring the inner energy of underground springs\, blending elemental forces in vibrant\, otherworldly compositions. \n\nEXHIBITION OPENING\nWith artists Karíma Al-Mukhtarová & TEA\nFriday 11 July 2025\, 6.30 – 8.30 pm\nFree entry\, Book Here: https://www.eventbrite.co.uk/e/they-all-met-in-karlsbad-private-view-tickets-1376243093139?aff=oddtdtcreator \n\nEXHIBITION DATES: 11 July – 31 August 2025\nVENUE\nVitrínka Gallery\, Czech Centre London\n30 Kensington Palace Gardens\, London\, W8 4QY\nOPENING HOURS:\nTue – Fri 10am – 5pm\nor by appointment – +44 (0) 207 836 3669\n\nOrganised by Czech Centre London in partnership with Magnus Art Gallery and J&T Bank. \nThis exhibition is part of From Karlovy Vary\, With Art\, the Czech Centre’s series celebrating the cultural legacy and creative spirit of Karlovy Vary through contemporary art\, design and cinema — including the tribute screening Jiří Bartoška In Memoriam: Shadows of a Hot Summer\, the group exhibition They All Met in Karlsbad and the poster showcase The Embrace as a Symbol of Closeness from the 59th Karlovy Vary International Film Festival.
URL:https://euniclondon.org/event/they-all-met-in-karlsbad/
LOCATION:Vitrínka Gallery\, Czech Centre London\, 30 Kensington Palace Gardens\, London\, W8 4QY\, United Kingdom
CATEGORIES:Art,Design
ATTACH;FMTTYPE=image/jpeg:https://euniclondon.org/wp-content/uploads/2025/06/The-All-Met-in-Karlsbad_Anna-Jozova-and-Lucie-Rosicka.jpg
ORGANIZER;CN="Czech Centre":MAILTO:blues@czechcentre.org.uk
END:VEVENT
END:VCALENDAR