BEGIN:VCALENDAR
VERSION:2.0
PRODID:-//EUNIC UK - ECPv6.15.20//NONSGML v1.0//EN
CALSCALE:GREGORIAN
METHOD:PUBLISH
X-WR-CALNAME:EUNIC UK
X-ORIGINAL-URL:https://euniclondon.org
X-WR-CALDESC:Events for EUNIC UK
REFRESH-INTERVAL;VALUE=DURATION:PT1H
X-Robots-Tag:noindex
X-PUBLISHED-TTL:PT1H
BEGIN:VTIMEZONE
TZID:Europe/London
BEGIN:DAYLIGHT
TZOFFSETFROM:+0000
TZOFFSETTO:+0100
TZNAME:BST
DTSTART:20250330T010000
END:DAYLIGHT
BEGIN:STANDARD
TZOFFSETFROM:+0100
TZOFFSETTO:+0000
TZNAME:GMT
DTSTART:20251026T010000
END:STANDARD
BEGIN:DAYLIGHT
TZOFFSETFROM:+0000
TZOFFSETTO:+0100
TZNAME:BST
DTSTART:20260329T010000
END:DAYLIGHT
BEGIN:STANDARD
TZOFFSETFROM:+0100
TZOFFSETTO:+0000
TZNAME:GMT
DTSTART:20261025T010000
END:STANDARD
BEGIN:DAYLIGHT
TZOFFSETFROM:+0000
TZOFFSETTO:+0100
TZNAME:BST
DTSTART:20270328T010000
END:DAYLIGHT
BEGIN:STANDARD
TZOFFSETFROM:+0100
TZOFFSETTO:+0000
TZNAME:GMT
DTSTART:20271031T010000
END:STANDARD
END:VTIMEZONE
BEGIN:VEVENT
DTSTART;TZID=Europe/London:20260329T140000
DTEND;TZID=Europe/London:20260329T190000
DTSTAMP:20260422T015236
CREATED:20260324T155223Z
LAST-MODIFIED:20260324T155325Z
UID:10005506-1774792800-1774810800@euniclondon.org
SUMMARY:GLOBAL CULTURES: EUROPE FEST 2026
DESCRIPTION:On the 29th March\, to celebrate the rich tradition of European film\, Jesus College\, Panorama\, EUNIC and member states\, the EU Delegation and the Cambridge Festival will partner to screen short films from Estonia\, the Faroe Islands\, Lithuania\, Ireland\, Poland\, Cyprus\, the Netherlands\, Turkey\, Romania\, Germany\, Hungary\, and Scotland. Previously shown in the ‘In Short’ film festival held by EUNIC in London\, this is their first outing to Cambridge. The programme includes films\, Q&As and discussions with filmmakers and artists Vytautas Katkus\, Sam Yazdanpanna\, and more. \n\n\n\nA celebration of diversity\, inclusion\, and access from across Europe\, themes will respond to kinship\, the politics of geography\, and surviving against hardships. \n\n\n\nThis event is part of Panorama’s partnership with Jesus College\, Cambridge. Global Cultures at Jesus College is produced by Panorama and led by Director Matthew Webb. Its goal is to contribute to Cambridge city beyond our walls\, offering unique cultural moments with world-class figures through its regular events\, which are open to all. In the last year alone\, we have featured master craftspeople\, Noh theatre mask makers\, National Geographic photographers\, and film directors\, producers and talent. Monthly events throughout the year will provide many opportunities for you to participate. \n\n\n\nThe day is supported by the following EUNIC members: the Cyprus High Commission; the Embassy of Estonia; the Embassy of Ireland in the UK; the Embassy of the Netherlands in the UK; the Goethe-Institut London; the Liszt Institute – Hungarian Cultural Centre London; the Lithuanian Embassy in the UK; the Polish Cultural Institute London; the Romanian Cultural Institute; the Representation of the Faroe Islands in the UK; Scotland House London; and the Yunus Emre Turkish Institute London.
URL:https://euniclondon.org/event/global-cultures-europe-fest-2026/
LOCATION:West Court\, Jesus College\, Jesus Lane\, Cambridge CB5 8BL\, Jesus Lane\, Cambridge\, CB5 8BL\, United Kingdom
ATTACH;FMTTYPE=image/jpeg:https://euniclondon.org/wp-content/uploads/2026/03/Estonia-Keyhole-Promo.jpg
END:VEVENT
END:VCALENDAR